BEGIN:VCALENDAR
VERSION:2.0
METHOD:PUBLISH
PRODID:-//Causal Sarl//LionsBase Calendar 5.0.x-dev//DE
TZID:Europe/Zurich
BEGIN:VEVENT
UID:30944_20260427@kufstein.lions.at
DTSTAMP:20260421T064911Z
DTSTART:20260427T173000Z
DTEND:20260427T190000Z
ORGANIZER:LC Kufstein intern
LOCATION:Hotel Goldener Löwe\, Oberer Stadtplatz 14\, 6330 Kufstein
SUMMARY:Clubsitzung mit Weinverkostung
DESCRIPTION:Clubsitzung mit anschließender Wein-Blindverkost
 ung\, 19.30 Uhr\, Clublokal \n\nAnmeldung bis 20. April. \n\
 nLF Michel Pipaz führt durch die Blindverkostung\, stellt di
 e Weine und lässt raten. Unkostenbeitrag EUR 35\,00 (für: We
 ine\, sog. Stöpselgeld für Clublokal).
END:VEVENT
END:VCALENDAR
